BEGIN:VCALENDAR
VERSION:2.0
PRODID:-//POLLnet  - ECPv6.8.2.1//NONSGML v1.0//EN
CALSCALE:GREGORIAN
METHOD:PUBLISH
X-ORIGINAL-URL:https://pollnet.isprambiente.it
X-WR-CALDESC:Eventi per POLLnet 
REFRESH-INTERVAL;VALUE=DURATION:PT1H
X-Robots-Tag:noindex
X-PUBLISHED-TTL:PT1H
BEGIN:VTIMEZONE
TZID:Europe/Rome
BEGIN:DAYLIGHT
TZOFFSETFROM:+0100
TZOFFSETTO:+0200
TZNAME:CEST
DTSTART:20240331T010000
END:DAYLIGHT
BEGIN:STANDARD
TZOFFSETFROM:+0200
TZOFFSETTO:+0100
TZNAME:CET
DTSTART:20241027T010000
END:STANDARD
END:VTIMEZONE
BEGIN:VEVENT
DTSTART;VALUE=DATE:20241120
DTEND;VALUE=DATE:20241121
DTSTAMP:20260421T120014
CREATED:20241114T093620Z
LAST-MODIFIED:20241114T094745Z
UID:3269-1732060800-1732147199@pollnet.isprambiente.it
SUMMARY:Riunione annuale della rete POLLnet
DESCRIPTION:La riunione annuale della rete dei referenti POLLnet si terrà\, in modalità mista presenza/online\, il prossimo 20 novembre presso la sala 8° piano\, Palazzo del Servizio Urbanistica e Tutela del Paesaggio della Provincia Autonoma di Trento\, Via Mantova\, 67 Trento. \nLa partecipazione è riservata ai soli referenti di rete e ai loro delegati.
URL:https://pollnet.isprambiente.it/event/api-impollinatori-polline-e-biodiversita-2/
LOCATION:Palazzo del Servizio Urbanistica e Tutela del Paesaggio della Provincia Autonoma di Trento\, Via Mantova\, 67\, Trento\, Italy
CATEGORIES:Eventi
END:VEVENT
END:VCALENDAR