BEGIN:VCALENDAR
VERSION:2.0
PRODID:-//POLLnet  - ECPv6.8.2.1//NONSGML v1.0//EN
CALSCALE:GREGORIAN
METHOD:PUBLISH
X-WR-CALNAME:POLLnet 
X-ORIGINAL-URL:https://pollnet.isprambiente.it
X-WR-CALDESC:Eventi per POLLnet 
REFRESH-INTERVAL;VALUE=DURATION:PT1H
X-Robots-Tag:noindex
X-PUBLISHED-TTL:PT1H
BEGIN:VTIMEZONE
TZID:Europe/Rome
BEGIN:DAYLIGHT
TZOFFSETFROM:+0100
TZOFFSETTO:+0200
TZNAME:CEST
DTSTART:20230326T010000
END:DAYLIGHT
BEGIN:STANDARD
TZOFFSETFROM:+0200
TZOFFSETTO:+0100
TZNAME:CET
DTSTART:20231029T010000
END:STANDARD
BEGIN:DAYLIGHT
TZOFFSETFROM:+0100
TZOFFSETTO:+0200
TZNAME:CEST
DTSTART:20240331T010000
END:DAYLIGHT
BEGIN:STANDARD
TZOFFSETFROM:+0200
TZOFFSETTO:+0100
TZNAME:CET
DTSTART:20241027T010000
END:STANDARD
END:VTIMEZONE
BEGIN:VEVENT
DTSTART;TZID=Europe/Rome:20240321T100000
DTEND;TZID=Europe/Rome:20240321T123000
DTSTAMP:20260422T013501
CREATED:20240319T142717Z
LAST-MODIFIED:20240319T143448Z
UID:2812-1711015200-1711024200@pollnet.isprambiente.it
SUMMARY:Giornata Nazionale del Polline 2024
DESCRIPTION:Il Monitoraggio aerobiologico: strumento indispensabile per la protezione della salute nel modello “One Health” \nIl prossimo 21 marzo\, in occasione della XVII edizione della Giornata Nazionale del Polline\, l’Istituto Superiore per la Protezione e la Ricerca Ambientale e la Società Italiana di Aerobiologia Medicina e Ambiente (SIAMA) presentano il seminario “Il monitoraggio aerobiologico: strumento indispensabile per la protezione della salute nel modello One Health”. La giornata\, organizzata in collaborazione con il Gruppo di Palinologia della Società Botanica Italiana e la rete tematica POLLnet SNPA ha lo scopo di promuovere l’aerobiologia come disciplina fondamentale nello studio delle problematiche ambientali connesse all’interpretazione della malattia allergica e di contribuire a diffondere la cultura dell’approccio multidisciplinare alle problematiche della salute dell’uomo e dell’ambiente. \nProgramma \nSegui la diretta streaming
URL:https://pollnet.isprambiente.it/event/giornata-nazionale-del-polline-2024/
CATEGORIES:Eventi
ATTACH;FMTTYPE=image/jpeg:https://pollnet.isprambiente.it/wp-content/uploads/2024/03/Giornata_polline_2024-1.jpeg
END:VEVENT
BEGIN:VEVENT
DTSTART;TZID=Europe/Rome:20240215T090000
DTEND;TZID=Europe/Rome:20240215T180000
DTSTAMP:20260422T013501
CREATED:20240201T150748Z
LAST-MODIFIED:20240201T150926Z
UID:1667-1707987600-1708020000@pollnet.isprambiente.it
SUMMARY:Giornata di studio sulla qualità del dato pollinico
DESCRIPTION:Giornata di studio sulla qualità del dato pollinico\n\n\n\nL’incontro\, rivolto ai tecnici del settore\, conclude la prova interlaboratorio su pollini e spore fungine aerodispersi svoltasi nel 2022\, in collaborazione fra Arpa Veneto e Arpa Friuli Venezia Giulia\, che ha visto gli operatori palinologi della rete nazionale POLLnet confrontarsi nella lettura microscopica di un vetrino di monitoraggio pollinico.\nLo scopo del lavoro è stato quello di accertare la preparazione dei singoli operatori\, di confrontarsi per garantire sempre una maggior uniformità e qualità dei dati che vengono pubblicati settimanalmente e di promuovere ulteriormente la formazione dei partecipanti. \n\n\n\n\n\n\nLa giornata di studio sarà un ulteriore momento di approfondimento\, confronto e aggiornamento per gli addetti del settore\, infatti\, oltre all’illustrazione dei dati\, verranno presentate altre tematiche quali il nesso fra pollini e malattie trasmesse da zecche\, un corretto utilizzo del microscopio\, le problematiche nell’identificazione dei granuli pollinici e la correlazione fra il particolato atmosferico e le spore fungine di Alternaria. A corredo di tutto ci sarà la visita guidata all’Orto Botanico\, con particolare riferimento alle piante di interesse aerobiologico. \n\nAlla giornata di studio partecipa un ricercatore ISPRA \nProgramma \nUlteriori informazioni
URL:https://pollnet.isprambiente.it/event/giornata-di-studio-sulla-qualita-del-dato-pollinico/
LOCATION:Orto Botanico\, Padova\, Italia
ATTACH;FMTTYPE=image/png:https://pollnet.isprambiente.it/wp-content/uploads/2024/02/8d36ab06-4174-4ddb-bb21-56b24a0cc10b.png
END:VEVENT
BEGIN:VEVENT
DTSTART;TZID=Europe/Rome:20240201T000000
DTEND;TZID=Europe/Rome:20240201T000000
DTSTAMP:20260422T013501
CREATED:20240201T142019Z
LAST-MODIFIED:20240201T145746Z
UID:1647-1706745600-1706745600@pollnet.isprambiente.it
SUMMARY:Interconfronto internazionale sui pollini 2024
DESCRIPTION:A gennaio 2024 partirà il IV Interconfronto su Pollini e Spore Fungine organizzato da ARPA Friuli Venezia Giulia\, ARPA Veneto e ARPA Emilia Romagna e coinvolgerà i palinologi afferenti alla rete nazionale POLLnet\, ma anche coloro che\, sia a livello nazionale che europeo\, si occupano di monitoraggio aerobiologico. Questa iniziativa è da inquadrarsi nell’ambito delle attività del sistema agenziale SNPA\, con un’ottica anche alle altre reti italiane ed europee al fine di una miglior omogeneità della produzione dei dati pollinici. \n\n\n\nL’organizzazione prevede: \n\n\n\n\n\n\n\n\n\n\n\n\n  \n\n\n\nla lettura di un vetrino test presso il Dipartimento Regionale Laboratori\, sede di Mestre-Venezia\n\n\n\n\n\n\n\n\n\nl’elaborazione dei dati da parte di un team di statistici delle Agenzie\n\n\n\n\n\n\n\n\n\nla restituzione dei risultati in un momento di approfondimento sui temi ambientali in autunno 2024\n\n\n\n\n\n\nTutto ciò nell’ottica di un ulteriore aggiornamento e preparazione degli operatori del settore e nella sempre migliore divulgazione della qualità del dato. \n\n\n\nL’iscrizione al test è gratuita. Si allega la locandina per dare la possibilità ad eventuali operatori del settore\, anche dall’estero\, di poter partecipare.
URL:https://pollnet.isprambiente.it/event/interconfronto-internazionale-sui-pollini-2024/
CATEGORIES:Eventi
ATTACH;FMTTYPE=image/jpeg:https://pollnet.isprambiente.it/wp-content/uploads/2024/02/1652965090191.width-500.jpg
END:VEVENT
BEGIN:VEVENT
DTSTART;TZID=Europe/Rome:20230321T110000
DTEND;TZID=Europe/Rome:20230321T133000
DTSTAMP:20260422T013501
CREATED:20230201T144441Z
LAST-MODIFIED:20240319T144459Z
UID:1659-1679396400-1679405400@pollnet.isprambiente.it
SUMMARY:XVI Giornata Nazionale del Polline 2023
DESCRIPTION:Monitoraggio ambientale e prevenzione dei rischi da allergie ai pollini\nIl 21 marzo\, in occasione della XVI edizione della Giornata Nazionale del Polline\, la Società Italiana di Aerobiologia Medicina e Ambiente (S.I.A.M.A.) ha organizzato il seminario “Monitoraggio ambientale e prevenzione dei rischi da allergie ai pollini”.\nL’incontro era dedicato all’aerobiologia ed alle sue innumerevoli applicazioni; tutto ciò grazie soprattutto al contributo di relatori che\, trasversalmente\, che hanno offerto alla platea la possibilità di capire l’importanza di seguire il fenomeno della liberazione e della diffusione nell’ambiente indoor ed outdoor di pollini e spore allergenici e l’interesse dello studio qualitativo\, quantitativo e predittivo della loro distribuzione sul territorio.\n \n\n\n\n\n\n\n\n\n\nAd oggi\, è possibile acquisire informazioni in tal senso consultando il bollettino pollinico e i calendari pollinici\, entrambi strumenti in grado di fornire dati relativi alla concentrazione dei pollini in atmosfera. \nAl convegno ha partecipato il Responsabile della Rete POLLNET ISPRA \nProgramma \nSito POLLNET \nDiretta streamig \nLa situazione degli allergeni in Italia \nL’evento è patrocinato da ISPRA \nAllergie ai pollini: Quanto ne sappiamo?
URL:https://pollnet.isprambiente.it/event/xvi-giornata-nazionale-del-polline-2023/
CATEGORIES:Eventi
ATTACH;FMTTYPE=image/png:https://pollnet.isprambiente.it/wp-content/uploads/2024/02/9fbdd493-ffae-4dd6-a2cb-4eee53d8bbf1.png
END:VEVENT
END:VCALENDAR