BEGIN:VCALENDAR
VERSION:2.0
PRODID:-//POLLnet  - ECPv6.8.2.1//NONSGML v1.0//EN
CALSCALE:GREGORIAN
METHOD:PUBLISH
X-ORIGINAL-URL:https://pollnet.isprambiente.it
X-WR-CALDESC:Eventi per POLLnet 
REFRESH-INTERVAL;VALUE=DURATION:PT1H
X-Robots-Tag:noindex
X-PUBLISHED-TTL:PT1H
BEGIN:VTIMEZONE
TZID:Europe/Rome
BEGIN:DAYLIGHT
TZOFFSETFROM:+0100
TZOFFSETTO:+0200
TZNAME:CEST
DTSTART:20240331T010000
END:DAYLIGHT
BEGIN:STANDARD
TZOFFSETFROM:+0200
TZOFFSETTO:+0100
TZNAME:CET
DTSTART:20241027T010000
END:STANDARD
END:VTIMEZONE
BEGIN:VEVENT
DTSTART;VALUE=DATE:20240926
DTEND;VALUE=DATE:20240927
DTSTAMP:20260421T124023
CREATED:20240918T130357Z
LAST-MODIFIED:20240918T133645Z
UID:3161-1727308800-1727395199@pollnet.isprambiente.it
SUMMARY:Pollini\, vegetazione\, api e allergie nel cambiamento climatico
DESCRIPTION:Il corso Pollini\, vegetazione\, api\, allergie nel cambiamento climatico si terrà il 26 settembre 2024 a Belluno. Il corso inizierà con un focus sul territorio montano del triveneto e uno sguardo sul futuro alla luce del cambiamento climatico in atto.\nIl corso\, gratuito\, è rivolto agli operatori del settore\, ma anche a coloro che desiderano conoscere o approfondire queste tematiche. Il corso sarà tenuto in doppia modalità: in presenza presso il Dipartimento Provinciale Arpav di Belluno e online. \nE’ possibile iscriversi inviando una mail a damaris.selle@arpa.veneto.it\, indicando la\nmodalità di partecipazione scelta\, entro il 24 settembre. \nI docenti del corso\nGianni Marigo del Dipartimento Sicurezza del Territorio di Arpa Veneto previsore meteo e climatologo\, in particolare degli ambienti di alta quota.\nCesare Lasen esperto a livello nazionale ed europeo\, studioso di floristica\, fitosociologia e geobotanica.\nPierluigi Verardo naturalista\, esperto di aerobiologia\, componente e referente regionale per il Friuli della rete nazionale POLLnet.\nNadia Trobiani biologa referente per le Marche della Rete Nazionale all’ interno di POLLnet\, studiosa di palinologia e melissopalinogia.\nRodolfo Muzzolon\, Direttore del Dipartimento di Area Specialistica dell’Ospedale di Belluno\, specialista in Tisiologia e Malattie dell’Apparato Respiratorio.
URL:https://pollnet.isprambiente.it/event/pollini-vegetazione-api-e-allergie-nel-cambiamento-climatico/
CATEGORIES:Eventi
ATTACH;FMTTYPE=image/png:https://pollnet.isprambiente.it/wp-content/uploads/2024/09/Locandina-corso-pollini-vegetazione-api-allergie-clima.png
END:VEVENT
BEGIN:VEVENT
DTSTART;TZID=Europe/Rome:20240927T183000
DTEND;TZID=Europe/Rome:20240927T230000
DTSTAMP:20260421T124023
CREATED:20240924T151105Z
LAST-MODIFIED:20240926T073616Z
UID:3185-1727461800-1727478000@pollnet.isprambiente.it
SUMMARY:Notte Europea dei Ricercatori e delle Ricercatrici 2024 : Api\, impollinatori\, polline e biodiversità
DESCRIPTION:Venerdì 27 settembre\, alla Città dell’Altra Economia a Roma\, la rete POLLnet parteciperà alla Notte Europea dei Ricercatori e delle Ricercatrici 2024  presso lo stand ISPRA Api\, impollinatori\, polline e biodiversità. \nIl benessere di tante specie oltre la nostra è collegato alle api\, ma anche ad altri insetti impollinatori: volano di fiore in fiore\, mescolano i pollini\, fecondano i fiori assicurando al pianeta frutta\, ortaggi\, legumi\, alberi\, prati. Un viaggio sulle ali del vento e delle api per capire cosa è il polline\, cosa è la rete pollnet\, quali sono le complesse relazioni che legano un alveare ai pollini e all’ambiente\, le cause e i pericoli legati al declino degli apoidei. Un percorso di approfondimento per grandi e piccoli guidati dai ricercatori dell’ISPRA per osservare la morfologia delle api e del polline e comprendere il processo di impollinazione delle piante. \nSito Scienzainsieme \nISPRA: Notte Europea dei Ricercatori e delle Ricercatrici 2024
URL:https://pollnet.isprambiente.it/event/api-impollinatori-polline-e-biodiversita/
LOCATION:Città dell’Altra Economia\, Città dell’Altra Economia\, roma\, rm\, Italia
CATEGORIES:Eventi
ATTACH;FMTTYPE=image/jpeg:https://pollnet.isprambiente.it/wp-content/uploads/2024/09/api.jpeg
END:VEVENT
END:VCALENDAR